BEGIN:VCALENDAR
VERSION:2.0
PRODID:-//East Hill Christian School - ECPv6.15.20//NONSGML v1.0//EN
CALSCALE:GREGORIAN
METHOD:PUBLISH
X-ORIGINAL-URL:https://www.ehcs.org
X-WR-CALDESC:Events for East Hill Christian School
REFRESH-INTERVAL;VALUE=DURATION:PT1H
X-Robots-Tag:noindex
X-PUBLISHED-TTL:PT1H
BEGIN:VTIMEZONE
TZID:America/Chicago
BEGIN:DAYLIGHT
TZOFFSETFROM:-0600
TZOFFSETTO:-0500
TZNAME:CDT
DTSTART:20240310T080000
END:DAYLIGHT
BEGIN:STANDARD
TZOFFSETFROM:-0500
TZOFFSETTO:-0600
TZNAME:CST
DTSTART:20241103T070000
END:STANDARD
BEGIN:DAYLIGHT
TZOFFSETFROM:-0600
TZOFFSETTO:-0500
TZNAME:CDT
DTSTART:20250309T080000
END:DAYLIGHT
BEGIN:STANDARD
TZOFFSETFROM:-0500
TZOFFSETTO:-0600
TZNAME:CST
DTSTART:20251102T070000
END:STANDARD
BEGIN:DAYLIGHT
TZOFFSETFROM:-0600
TZOFFSETTO:-0500
TZNAME:CDT
DTSTART:20260308T080000
END:DAYLIGHT
BEGIN:STANDARD
TZOFFSETFROM:-0500
TZOFFSETTO:-0600
TZNAME:CST
DTSTART:20261101T070000
END:STANDARD
END:VTIMEZONE
BEGIN:VEVENT
DTSTART;VALUE=DATE:20250124
DTEND;VALUE=DATE:20250127
DTSTAMP:20260424T100318
CREATED:20241115T194420Z
LAST-MODIFIED:20250114T004258Z
UID:10002183-1737676800-1737935999@www.ehcs.org
SUMMARY:Drama (Tentative)
DESCRIPTION:
URL:https://www.ehcs.org/event/drama-tentative/
CATEGORIES:Athletics
END:VEVENT
BEGIN:VEVENT
DTSTART;TZID=America/Chicago:20250125T123000
DTEND;TZID=America/Chicago:20250125T133000
DTSTAMP:20260424T100318
CREATED:20241226T171254Z
LAST-MODIFIED:20250125T192815Z
UID:10002200-1737808200-1737811800@www.ehcs.org
SUMMARY:4/5 Girls Bball vs Sacred Heart
DESCRIPTION:
URL:https://www.ehcs.org/event/4-5-girls-bball-vs-sacred-heart/
LOCATION:Episcopal Day School of Christ Church Parish\, 223 N Palafox St\, Pensacola\, FL\, United States
CATEGORIES:General
GEO:30.415732;-87.215951
X-APPLE-STRUCTURED-LOCATION;VALUE=URI;X-ADDRESS=Episcopal Day School of Christ Church Parish 223 N Palafox St Pensacola FL United States;X-APPLE-RADIUS=500;X-TITLE=223 N Palafox St:geo:-87.215951,30.415732
END:VEVENT
BEGIN:VEVENT
DTSTART;TZID=America/Chicago:20250125T140000
DTEND;TZID=America/Chicago:20250125T150000
DTSTAMP:20260424T100318
CREATED:20241226T171254Z
LAST-MODIFIED:20250125T205753Z
UID:10002202-1737813600-1737817200@www.ehcs.org
SUMMARY:2/3 Boys Bball vs Sacred Heart Red
DESCRIPTION:
URL:https://www.ehcs.org/event/2-3-boys-bball-vs-sacred-heart-red/
LOCATION:St Paul Catholic Church\, 3131 Hyde Park Rd\, Pensacola\, FL\, United States
CATEGORIES:General
GEO:30.439833;-87.179231
X-APPLE-STRUCTURED-LOCATION;VALUE=URI;X-ADDRESS=St Paul Catholic Church 3131 Hyde Park Rd Pensacola FL United States;X-APPLE-RADIUS=500;X-TITLE=3131 Hyde Park Rd:geo:-87.179231,30.439833
END:VEVENT
BEGIN:VEVENT
DTSTART;TZID=America/Chicago:20250125T143000
DTEND;TZID=America/Chicago:20250125T153000
DTSTAMP:20260424T100318
CREATED:20241226T171254Z
LAST-MODIFIED:20250125T205753Z
UID:10002201-1737815400-1737819000@www.ehcs.org
SUMMARY:4/5 Girls Bball vs ACA red
DESCRIPTION:
URL:https://www.ehcs.org/event/4-5-girls-bball-vs-aca-red/
LOCATION:Episcopal Day School of Christ Church Parish\, 223 N Palafox St\, Pensacola\, FL\, United States
CATEGORIES:General
GEO:30.415732;-87.215951
X-APPLE-STRUCTURED-LOCATION;VALUE=URI;X-ADDRESS=Episcopal Day School of Christ Church Parish 223 N Palafox St Pensacola FL United States;X-APPLE-RADIUS=500;X-TITLE=223 N Palafox St:geo:-87.215951,30.415732
END:VEVENT
BEGIN:VEVENT
DTSTART;TZID=America/Chicago:20250125T153000
DTEND;TZID=America/Chicago:20250125T163000
DTSTAMP:20260424T100318
CREATED:20241226T171253Z
LAST-MODIFIED:20250125T222831Z
UID:10002198-1737819000-1737822600@www.ehcs.org
SUMMARY:2/3 Boys Bball vs ACA Lions Blue
DESCRIPTION:
URL:https://www.ehcs.org/event/2-3-boys-bball-vs-rls-green/
LOCATION:St Paul Catholic Church\, 3131 Hyde Park Rd\, Pensacola\, FL\, United States
CATEGORIES:General
GEO:30.439833;-87.179231
X-APPLE-STRUCTURED-LOCATION;VALUE=URI;X-ADDRESS=St Paul Catholic Church 3131 Hyde Park Rd Pensacola FL United States;X-APPLE-RADIUS=500;X-TITLE=3131 Hyde Park Rd:geo:-87.179231,30.439833
END:VEVENT
BEGIN:VEVENT
DTSTART;TZID=America/Chicago:20250125T153000
DTEND;TZID=America/Chicago:20250125T163000
DTSTAMP:20260424T100318
CREATED:20241226T171254Z
LAST-MODIFIED:20250116T151258Z
UID:10002203-1737819000-1737822600@www.ehcs.org
SUMMARY:2/3 Boys Bball vs. ACA blue
DESCRIPTION:
URL:https://www.ehcs.org/event/2-3-boys-bball-vs-aca-blue/
LOCATION:St Paul Catholic Church\, 3131 Hyde Park Rd\, Pensacola\, FL\, United States
CATEGORIES:General
GEO:30.439833;-87.179231
X-APPLE-STRUCTURED-LOCATION;VALUE=URI;X-ADDRESS=St Paul Catholic Church 3131 Hyde Park Rd Pensacola FL United States;X-APPLE-RADIUS=500;X-TITLE=3131 Hyde Park Rd:geo:-87.179231,30.439833
END:VEVENT
BEGIN:VEVENT
DTSTART;TZID=America/Chicago:20250125T183000
DTEND;TZID=America/Chicago:20250125T193000
DTSTAMP:20260424T100318
CREATED:20241226T174337Z
LAST-MODIFIED:20250126T012755Z
UID:10002204-1737829800-1737833400@www.ehcs.org
SUMMARY:4/5 Boys Bball vs. EDS black
DESCRIPTION:
URL:https://www.ehcs.org/event/4-5-boys-bball-vs-eds-black/
LOCATION:L.E.A.D. Academy Classical School\, 7121 Chumuckla Hwy\, Milton\, FL\, United States
CATEGORIES:General
GEO:30.708257;-87.183005
X-APPLE-STRUCTURED-LOCATION;VALUE=URI;X-ADDRESS=L.E.A.D. Academy Classical School 7121 Chumuckla Hwy Milton FL United States;X-APPLE-RADIUS=500;X-TITLE=7121 Chumuckla Hwy:geo:-87.183005,30.708257
END:VEVENT
BEGIN:VEVENT
DTSTART;TZID=America/Chicago:20250125T190000
DTEND;TZID=America/Chicago:20250125T210000
DTSTAMP:20260424T100318
CREATED:20241121T144505Z
LAST-MODIFIED:20250114T154239Z
UID:10002186-1737831600-1737838800@www.ehcs.org
SUMMARY:Clue Production
DESCRIPTION:
URL:https://www.ehcs.org/event/clue-production-2/
CATEGORIES:General
END:VEVENT
END:VCALENDAR