BEGIN:VCALENDAR
VERSION:2.0
PRODID:-//East Hill Christian School - ECPv6.15.20//NONSGML v1.0//EN
CALSCALE:GREGORIAN
METHOD:PUBLISH
X-ORIGINAL-URL:https://www.ehcs.org
X-WR-CALDESC:Events for East Hill Christian School
REFRESH-INTERVAL;VALUE=DURATION:PT1H
X-Robots-Tag:noindex
X-PUBLISHED-TTL:PT1H
BEGIN:VTIMEZONE
TZID:America/Chicago
BEGIN:DAYLIGHT
TZOFFSETFROM:-0600
TZOFFSETTO:-0500
TZNAME:CDT
DTSTART:20240310T080000
END:DAYLIGHT
BEGIN:STANDARD
TZOFFSETFROM:-0500
TZOFFSETTO:-0600
TZNAME:CST
DTSTART:20241103T070000
END:STANDARD
BEGIN:DAYLIGHT
TZOFFSETFROM:-0600
TZOFFSETTO:-0500
TZNAME:CDT
DTSTART:20250309T080000
END:DAYLIGHT
BEGIN:STANDARD
TZOFFSETFROM:-0500
TZOFFSETTO:-0600
TZNAME:CST
DTSTART:20251102T070000
END:STANDARD
BEGIN:DAYLIGHT
TZOFFSETFROM:-0600
TZOFFSETTO:-0500
TZNAME:CDT
DTSTART:20260308T080000
END:DAYLIGHT
BEGIN:STANDARD
TZOFFSETFROM:-0500
TZOFFSETTO:-0600
TZNAME:CST
DTSTART:20261101T070000
END:STANDARD
END:VTIMEZONE
BEGIN:VEVENT
DTSTART;TZID=America/Chicago:20250327T150000
DTEND;TZID=America/Chicago:20250327T160000
DTSTAMP:20260419T080816
CREATED:20250304T144403Z
LAST-MODIFIED:20250327T202810Z
UID:10002281-1743087600-1743091200@www.ehcs.org
SUMMARY:Tennis EHCS vs West Florida HS
DESCRIPTION:
URL:https://www.ehcs.org/event/tennis-ehcs-vs-west-florida-hs/
LOCATION:150 E Burgess Rd\, Pensacola\, FL\, United States
CATEGORIES:General
GEO:30.462646;-87.216523
END:VEVENT
BEGIN:VEVENT
DTSTART;TZID=America/Chicago:20250327T180000
DTEND;TZID=America/Chicago:20250327T190000
DTSTAMP:20260419T080816
CREATED:20250307T145801Z
LAST-MODIFIED:20250327T231253Z
UID:10002285-1743098400-1743102000@www.ehcs.org
SUMMARY:Dual Enrollment Parent Info Meeting
DESCRIPTION:
URL:https://www.ehcs.org/event/dual-enrollment-parent-info-meeting/
LOCATION:EHCS Library
CATEGORIES:General
END:VEVENT
END:VCALENDAR