BEGIN:VCALENDAR
VERSION:2.0
PRODID:-//East Hill Christian School - ECPv6.15.20//NONSGML v1.0//EN
CALSCALE:GREGORIAN
METHOD:PUBLISH
X-WR-CALNAME:East Hill Christian School
X-ORIGINAL-URL:https://www.ehcs.org
X-WR-CALDESC:Events for East Hill Christian School
REFRESH-INTERVAL;VALUE=DURATION:PT1H
X-Robots-Tag:noindex
X-PUBLISHED-TTL:PT1H
BEGIN:VTIMEZONE
TZID:America/Chicago
BEGIN:DAYLIGHT
TZOFFSETFROM:-0600
TZOFFSETTO:-0500
TZNAME:CDT
DTSTART:20240310T080000
END:DAYLIGHT
BEGIN:STANDARD
TZOFFSETFROM:-0500
TZOFFSETTO:-0600
TZNAME:CST
DTSTART:20241103T070000
END:STANDARD
BEGIN:DAYLIGHT
TZOFFSETFROM:-0600
TZOFFSETTO:-0500
TZNAME:CDT
DTSTART:20250309T080000
END:DAYLIGHT
BEGIN:STANDARD
TZOFFSETFROM:-0500
TZOFFSETTO:-0600
TZNAME:CST
DTSTART:20251102T070000
END:STANDARD
BEGIN:DAYLIGHT
TZOFFSETFROM:-0600
TZOFFSETTO:-0500
TZNAME:CDT
DTSTART:20260308T080000
END:DAYLIGHT
BEGIN:STANDARD
TZOFFSETFROM:-0500
TZOFFSETTO:-0600
TZNAME:CST
DTSTART:20261101T070000
END:STANDARD
END:VTIMEZONE
BEGIN:VEVENT
DTSTART;TZID=America/Chicago:20251211T160000
DTEND;TZID=America/Chicago:20251211T170000
DTSTAMP:20260423T054440
CREATED:20251017T191449Z
LAST-MODIFIED:20251211T222946Z
UID:10002624-1765468800-1765472400@www.ehcs.org
SUMMARY:EHCS JV Boys B-ball vs Central
DESCRIPTION:
URL:https://www.ehcs.org/event/ehcs-jv-boys-b-ball-vs-central/
LOCATION:East Hill Christian School\, 1301 E Gonzalez St\, Pensacola\, FL\, United States
CATEGORIES:General
GEO:30.426923;-87.201818
X-APPLE-STRUCTURED-LOCATION;VALUE=URI;X-ADDRESS=East Hill Christian School 1301 E Gonzalez St Pensacola FL United States;X-APPLE-RADIUS=500;X-TITLE=1301 E Gonzalez St:geo:-87.201818,30.426923
END:VEVENT
BEGIN:VEVENT
DTSTART;TZID=America/Chicago:20251211T170000
DTEND;TZID=America/Chicago:20251211T180000
DTSTAMP:20260423T054440
CREATED:20251017T191450Z
LAST-MODIFIED:20251211T234550Z
UID:10002625-1765472400-1765476000@www.ehcs.org
SUMMARY:EHCS Lady Eagles B-ball vs Central
DESCRIPTION:
URL:https://www.ehcs.org/event/ehcs-lady-eagles-b-ball-vs-central/
LOCATION:East Hill Christian School\, 1301 E Gonzalez St\, Pensacola\, FL\, United States
CATEGORIES:General
GEO:30.426923;-87.201818
X-APPLE-STRUCTURED-LOCATION;VALUE=URI;X-ADDRESS=East Hill Christian School 1301 E Gonzalez St Pensacola FL United States;X-APPLE-RADIUS=500;X-TITLE=1301 E Gonzalez St:geo:-87.201818,30.426923
END:VEVENT
BEGIN:VEVENT
DTSTART;TZID=America/Chicago:20251211T183000
DTEND;TZID=America/Chicago:20251211T193000
DTSTAMP:20260423T054440
CREATED:20251017T191450Z
LAST-MODIFIED:20251212T011652Z
UID:10002626-1765477800-1765481400@www.ehcs.org
SUMMARY:EHCS Varsity Boys B-ball vs Central
DESCRIPTION:
URL:https://www.ehcs.org/event/ehcs-varsity-boys-b-ball-vs-central/
LOCATION:East Hill Christian School\, 1301 E Gonzalez St\, Pensacola\, FL\, United States
CATEGORIES:General
GEO:30.426923;-87.201818
X-APPLE-STRUCTURED-LOCATION;VALUE=URI;X-ADDRESS=East Hill Christian School 1301 E Gonzalez St Pensacola FL United States;X-APPLE-RADIUS=500;X-TITLE=1301 E Gonzalez St:geo:-87.201818,30.426923
END:VEVENT
END:VCALENDAR