BEGIN:VCALENDAR
VERSION:2.0
PRODID:-//East Hill Christian School - ECPv6.15.20//NONSGML v1.0//EN
CALSCALE:GREGORIAN
METHOD:PUBLISH
X-WR-CALNAME:East Hill Christian School
X-ORIGINAL-URL:https://www.ehcs.org
X-WR-CALDESC:Events for East Hill Christian School
REFRESH-INTERVAL;VALUE=DURATION:PT1H
X-Robots-Tag:noindex
X-PUBLISHED-TTL:PT1H
BEGIN:VTIMEZONE
TZID:America/Chicago
BEGIN:DAYLIGHT
TZOFFSETFROM:-0600
TZOFFSETTO:-0500
TZNAME:CDT
DTSTART:20230312T080000
END:DAYLIGHT
BEGIN:STANDARD
TZOFFSETFROM:-0500
TZOFFSETTO:-0600
TZNAME:CST
DTSTART:20231105T070000
END:STANDARD
BEGIN:DAYLIGHT
TZOFFSETFROM:-0600
TZOFFSETTO:-0500
TZNAME:CDT
DTSTART:20240310T080000
END:DAYLIGHT
BEGIN:STANDARD
TZOFFSETFROM:-0500
TZOFFSETTO:-0600
TZNAME:CST
DTSTART:20241103T070000
END:STANDARD
BEGIN:DAYLIGHT
TZOFFSETFROM:-0600
TZOFFSETTO:-0500
TZNAME:CDT
DTSTART:20250309T080000
END:DAYLIGHT
BEGIN:STANDARD
TZOFFSETFROM:-0500
TZOFFSETTO:-0600
TZNAME:CST
DTSTART:20251102T070000
END:STANDARD
BEGIN:DAYLIGHT
TZOFFSETFROM:-0600
TZOFFSETTO:-0500
TZNAME:CDT
DTSTART:20260308T080000
END:DAYLIGHT
BEGIN:STANDARD
TZOFFSETFROM:-0500
TZOFFSETTO:-0600
TZNAME:CST
DTSTART:20261101T070000
END:STANDARD
END:VTIMEZONE
BEGIN:VEVENT
DTSTART;TZID=America/Chicago:20241016T150000
DTEND;TZID=America/Chicago:20241016T163000
DTSTAMP:20260423T101938
CREATED:20240731T152621Z
LAST-MODIFIED:20240806T014312Z
UID:10001932-1729090800-1729096200@www.ehcs.org
SUMMARY:Cheerleading Practice
DESCRIPTION:
URL:https://www.ehcs.org/event/cheerleading-practice-10/
LOCATION:FL
CATEGORIES:Athletics
END:VEVENT
BEGIN:VEVENT
DTSTART;VALUE=DATE:20241018
DTEND;VALUE=DATE:20241020
DTSTAMP:20260423T101938
CREATED:20240731T152621Z
LAST-MODIFIED:20241019T234339Z
UID:10001933-1729209600-1729382399@www.ehcs.org
SUMMARY:PCC Volleyball and Soccer Championships
DESCRIPTION:Soccer will be at Aletheia Christian SchoolVolleyball at East Hill Christian
URL:https://www.ehcs.org/event/pcc-volleyball-and-soccer-championships/
LOCATION:East Hill Christian School\, 1301 E Gonzalez St\, Pensacola\, FL\, United States
CATEGORIES:Athletics,General
GEO:30.426923;-87.201818
X-APPLE-STRUCTURED-LOCATION;VALUE=URI;X-ADDRESS=East Hill Christian School 1301 E Gonzalez St Pensacola FL United States;X-APPLE-RADIUS=500;X-TITLE=1301 E Gonzalez St:geo:-87.201818,30.426923
END:VEVENT
BEGIN:VEVENT
DTSTART;TZID=America/Chicago:20241023T150000
DTEND;TZID=America/Chicago:20241023T163000
DTSTAMP:20260423T101939
CREATED:20240731T152621Z
LAST-MODIFIED:20240806T014313Z
UID:10001934-1729695600-1729701000@www.ehcs.org
SUMMARY:Cheerleading Practice
DESCRIPTION:
URL:https://www.ehcs.org/event/cheerleading-practice-11/
LOCATION:FL
CATEGORIES:Athletics
END:VEVENT
BEGIN:VEVENT
DTSTART;VALUE=DATE:20241024
DTEND;VALUE=DATE:20241025
DTSTAMP:20260423T101939
CREATED:20240819T162828Z
LAST-MODIFIED:20241024T234252Z
UID:10002081-1729728000-1729814399@www.ehcs.org
SUMMARY:XC Esca-Rosa County Champion
DESCRIPTION:
URL:https://www.ehcs.org/event/xc-esca-rosa-county-champion/
LOCATION:Osceola Municipal Golf Course\, 300 Tonawanda Dr\, Pensacola\, FL\, United States
CATEGORIES:Athletics
GEO:30.438955;-87.286504
X-APPLE-STRUCTURED-LOCATION;VALUE=URI;X-ADDRESS=Osceola Municipal Golf Course 300 Tonawanda Dr Pensacola FL United States;X-APPLE-RADIUS=500;X-TITLE=300 Tonawanda Dr:geo:-87.286504,30.438955
END:VEVENT
BEGIN:VEVENT
DTSTART;TZID=America/Chicago:20241028T110000
DTEND;TZID=America/Chicago:20241028T120000
DTSTAMP:20260423T101939
CREATED:20240819T162828Z
LAST-MODIFIED:20241028T164257Z
UID:10002082-1730113200-1730116800@www.ehcs.org
SUMMARY:XC District Meet
DESCRIPTION:
URL:https://www.ehcs.org/event/xc-district-meet/
LOCATION:St Joseph Bay Country Club\, 199 Port St\, Port Saint Joe\, FL\, United States
CATEGORIES:Athletics
GEO:29.732141;-85.391431
X-APPLE-STRUCTURED-LOCATION;VALUE=URI;X-ADDRESS=St Joseph Bay Country Club 199 Port St Port Saint Joe FL United States;X-APPLE-RADIUS=500;X-TITLE=199 Port St:geo:-85.391431,29.732141
END:VEVENT
BEGIN:VEVENT
DTSTART;TZID=America/Chicago:20241030T150000
DTEND;TZID=America/Chicago:20241030T163000
DTSTAMP:20260423T101939
CREATED:20240731T152621Z
LAST-MODIFIED:20240806T014313Z
UID:10001935-1730300400-1730305800@www.ehcs.org
SUMMARY:Cheerleading Practice
DESCRIPTION:
URL:https://www.ehcs.org/event/cheerleading-practice-12/
LOCATION:FL
CATEGORIES:Athletics
END:VEVENT
BEGIN:VEVENT
DTSTART;TZID=America/Chicago:20241106T150000
DTEND;TZID=America/Chicago:20241106T163000
DTSTAMP:20260423T101939
CREATED:20240731T152621Z
LAST-MODIFIED:20240806T014313Z
UID:10001936-1730905200-1730910600@www.ehcs.org
SUMMARY:Cheerleading Practice
DESCRIPTION:
URL:https://www.ehcs.org/event/cheerleading-practice-13/
LOCATION:FL
CATEGORIES:Athletics
END:VEVENT
BEGIN:VEVENT
DTSTART;TZID=America/Chicago:20241113T150000
DTEND;TZID=America/Chicago:20241113T163000
DTSTAMP:20260423T101939
CREATED:20240731T152621Z
LAST-MODIFIED:20240806T014313Z
UID:10001937-1731510000-1731515400@www.ehcs.org
SUMMARY:Cheerleading Practice
DESCRIPTION:
URL:https://www.ehcs.org/event/cheerleading-practice-14/
LOCATION:FL
CATEGORIES:Athletics
END:VEVENT
BEGIN:VEVENT
DTSTART;TZID=America/Chicago:20241120T150000
DTEND;TZID=America/Chicago:20241120T163000
DTSTAMP:20260423T101939
CREATED:20240731T152621Z
LAST-MODIFIED:20240806T014313Z
UID:10001938-1732114800-1732120200@www.ehcs.org
SUMMARY:Cheerleading Practice
DESCRIPTION:
URL:https://www.ehcs.org/event/cheerleading-practice-15/
LOCATION:FL
CATEGORIES:Athletics
END:VEVENT
BEGIN:VEVENT
DTSTART;TZID=America/Chicago:20241127T150000
DTEND;TZID=America/Chicago:20241127T163000
DTSTAMP:20260423T101939
CREATED:20240731T152622Z
LAST-MODIFIED:20240806T014313Z
UID:10001939-1732719600-1732725000@www.ehcs.org
SUMMARY:Cheerleading Practice
DESCRIPTION:
URL:https://www.ehcs.org/event/cheerleading-practice-16/
LOCATION:FL
CATEGORIES:Athletics
END:VEVENT
BEGIN:VEVENT
DTSTART;TZID=America/Chicago:20241204T150000
DTEND;TZID=America/Chicago:20241204T163000
DTSTAMP:20260423T101939
CREATED:20240731T152622Z
LAST-MODIFIED:20240806T014313Z
UID:10001940-1733324400-1733329800@www.ehcs.org
SUMMARY:Cheerleading Practice
DESCRIPTION:
URL:https://www.ehcs.org/event/cheerleading-practice-17/
LOCATION:FL
CATEGORIES:Athletics
END:VEVENT
BEGIN:VEVENT
DTSTART;TZID=America/Chicago:20241211T150000
DTEND;TZID=America/Chicago:20241211T163000
DTSTAMP:20260423T101939
CREATED:20240731T152622Z
LAST-MODIFIED:20240806T014313Z
UID:10001941-1733929200-1733934600@www.ehcs.org
SUMMARY:Cheerleading Practice
DESCRIPTION:
URL:https://www.ehcs.org/event/cheerleading-practice-18/
LOCATION:FL
CATEGORIES:Athletics
END:VEVENT
BEGIN:VEVENT
DTSTART;TZID=America/Chicago:20241218T150000
DTEND;TZID=America/Chicago:20241218T163000
DTSTAMP:20260423T101939
CREATED:20240731T152622Z
LAST-MODIFIED:20240806T014313Z
UID:10001942-1734534000-1734539400@www.ehcs.org
SUMMARY:Cheerleading Practice
DESCRIPTION:
URL:https://www.ehcs.org/event/cheerleading-practice-19/
LOCATION:FL
CATEGORIES:Athletics
END:VEVENT
BEGIN:VEVENT
DTSTART;TZID=America/Chicago:20241225T150000
DTEND;TZID=America/Chicago:20241225T163000
DTSTAMP:20260423T101939
CREATED:20240731T152622Z
LAST-MODIFIED:20240806T014313Z
UID:10001943-1735138800-1735144200@www.ehcs.org
SUMMARY:Cheerleading Practice
DESCRIPTION:
URL:https://www.ehcs.org/event/cheerleading-practice-20/
LOCATION:FL
CATEGORIES:Athletics
END:VEVENT
BEGIN:VEVENT
DTSTART;TZID=America/Chicago:20250101T150000
DTEND;TZID=America/Chicago:20250101T163000
DTSTAMP:20260423T101939
CREATED:20240731T152622Z
LAST-MODIFIED:20240806T014314Z
UID:10001944-1735743600-1735749000@www.ehcs.org
SUMMARY:Cheerleading Practice
DESCRIPTION:
URL:https://www.ehcs.org/event/cheerleading-practice-21/
LOCATION:FL
CATEGORIES:Athletics
END:VEVENT
BEGIN:VEVENT
DTSTART;TZID=America/Chicago:20250108T150000
DTEND;TZID=America/Chicago:20250108T163000
DTSTAMP:20260423T101939
CREATED:20240731T152622Z
LAST-MODIFIED:20240806T014314Z
UID:10001945-1736348400-1736353800@www.ehcs.org
SUMMARY:Cheerleading Practice
DESCRIPTION:
URL:https://www.ehcs.org/event/cheerleading-practice-22/
LOCATION:FL
CATEGORIES:Athletics
END:VEVENT
BEGIN:VEVENT
DTSTART;TZID=America/Chicago:20250115T150000
DTEND;TZID=America/Chicago:20250115T163000
DTSTAMP:20260423T101939
CREATED:20240731T152622Z
LAST-MODIFIED:20240806T014314Z
UID:10001946-1736953200-1736958600@www.ehcs.org
SUMMARY:Cheerleading Practice
DESCRIPTION:
URL:https://www.ehcs.org/event/cheerleading-practice-23/
LOCATION:FL
CATEGORIES:Athletics
END:VEVENT
BEGIN:VEVENT
DTSTART;TZID=America/Chicago:20250122T150000
DTEND;TZID=America/Chicago:20250122T163000
DTSTAMP:20260423T101939
CREATED:20240731T152623Z
LAST-MODIFIED:20240806T014314Z
UID:10001947-1737558000-1737563400@www.ehcs.org
SUMMARY:Cheerleading Practice
DESCRIPTION:
URL:https://www.ehcs.org/event/cheerleading-practice-24/
LOCATION:FL
CATEGORIES:Athletics
END:VEVENT
BEGIN:VEVENT
DTSTART;VALUE=DATE:20250124
DTEND;VALUE=DATE:20250127
DTSTAMP:20260423T101939
CREATED:20241115T194420Z
LAST-MODIFIED:20250114T004258Z
UID:10002183-1737676800-1737935999@www.ehcs.org
SUMMARY:Drama (Tentative)
DESCRIPTION:
URL:https://www.ehcs.org/event/drama-tentative/
LOCATION:FL
CATEGORIES:Athletics
END:VEVENT
BEGIN:VEVENT
DTSTART;TZID=America/Chicago:20250129T150000
DTEND;TZID=America/Chicago:20250129T163000
DTSTAMP:20260423T101939
CREATED:20240731T152623Z
LAST-MODIFIED:20240806T014314Z
UID:10001948-1738162800-1738168200@www.ehcs.org
SUMMARY:Cheerleading Practice
DESCRIPTION:
URL:https://www.ehcs.org/event/cheerleading-practice-25/
LOCATION:FL
CATEGORIES:Athletics
END:VEVENT
BEGIN:VEVENT
DTSTART;TZID=America/Chicago:20250205T150000
DTEND;TZID=America/Chicago:20250205T163000
DTSTAMP:20260423T101939
CREATED:20240731T152623Z
LAST-MODIFIED:20240806T014314Z
UID:10001949-1738767600-1738773000@www.ehcs.org
SUMMARY:Cheerleading Practice
DESCRIPTION:
URL:https://www.ehcs.org/event/cheerleading-practice-26/
LOCATION:FL
CATEGORIES:Athletics
END:VEVENT
BEGIN:VEVENT
DTSTART;TZID=America/Chicago:20250212T150000
DTEND;TZID=America/Chicago:20250212T163000
DTSTAMP:20260423T101939
CREATED:20240731T152623Z
LAST-MODIFIED:20240806T014314Z
UID:10001950-1739372400-1739377800@www.ehcs.org
SUMMARY:Cheerleading Practice
DESCRIPTION:
URL:https://www.ehcs.org/event/cheerleading-practice-27/
LOCATION:FL
CATEGORIES:Athletics
END:VEVENT
BEGIN:VEVENT
DTSTART;VALUE=DATE:20250213
DTEND;VALUE=DATE:20250216
DTSTAMP:20260423T101939
CREATED:20240731T152623Z
LAST-MODIFIED:20250215T234557Z
UID:10001951-1739404800-1739663999@www.ehcs.org
SUMMARY:PCC Basketball Regionals
DESCRIPTION:
URL:https://www.ehcs.org/event/pcc-basketball-regionals/
LOCATION:Gulf Pointe Latin School\, 7624 E Bay Blvd\, Gulf Breeze\, FL\, United States
CATEGORIES:Athletics,General
GEO:30.43288;-86.90865
X-APPLE-STRUCTURED-LOCATION;VALUE=URI;X-ADDRESS=Gulf Pointe Latin School 7624 E Bay Blvd Gulf Breeze FL United States;X-APPLE-RADIUS=500;X-TITLE=7624 E Bay Blvd:geo:-86.90865,30.43288
END:VEVENT
BEGIN:VEVENT
DTSTART;TZID=America/Chicago:20250219T150000
DTEND;TZID=America/Chicago:20250219T163000
DTSTAMP:20260423T101939
CREATED:20240731T152623Z
LAST-MODIFIED:20240806T014314Z
UID:10001952-1739977200-1739982600@www.ehcs.org
SUMMARY:Cheerleading Practice
DESCRIPTION:
URL:https://www.ehcs.org/event/cheerleading-practice-28/
LOCATION:FL
CATEGORIES:Athletics
END:VEVENT
BEGIN:VEVENT
DTSTART;VALUE=DATE:20250221
DTEND;VALUE=DATE:20250223
DTSTAMP:20260423T101939
CREATED:20240731T152624Z
LAST-MODIFIED:20250222T233123Z
UID:10001953-1740096000-1740268799@www.ehcs.org
SUMMARY:PCC Basketball Championships
DESCRIPTION:
URL:https://www.ehcs.org/event/pcc-basketball-championships/
LOCATION:West Florida Baptist Academy\, Milton\, FL\, United States
CATEGORIES:Athletics,General
GEO:30.577638;-86.966835
END:VEVENT
BEGIN:VEVENT
DTSTART;TZID=America/Chicago:20250226T150000
DTEND;TZID=America/Chicago:20250226T163000
DTSTAMP:20260423T101939
CREATED:20240731T152624Z
LAST-MODIFIED:20240806T014315Z
UID:10001954-1740582000-1740587400@www.ehcs.org
SUMMARY:Cheerleading Practice
DESCRIPTION:
URL:https://www.ehcs.org/event/cheerleading-practice-29/
LOCATION:FL
CATEGORIES:Athletics
END:VEVENT
BEGIN:VEVENT
DTSTART;TZID=America/Chicago:20250305T150000
DTEND;TZID=America/Chicago:20250305T163000
DTSTAMP:20260423T101939
CREATED:20240731T152624Z
LAST-MODIFIED:20240806T014315Z
UID:10001955-1741186800-1741192200@www.ehcs.org
SUMMARY:Cheerleading Practice
DESCRIPTION:
URL:https://www.ehcs.org/event/cheerleading-practice-30/
LOCATION:FL
CATEGORIES:Athletics
END:VEVENT
BEGIN:VEVENT
DTSTART;TZID=America/Chicago:20250312T150000
DTEND;TZID=America/Chicago:20250312T163000
DTSTAMP:20260423T101939
CREATED:20240731T152624Z
LAST-MODIFIED:20240806T014315Z
UID:10001956-1741791600-1741797000@www.ehcs.org
SUMMARY:Cheerleading Practice
DESCRIPTION:
URL:https://www.ehcs.org/event/cheerleading-practice-31/
LOCATION:FL
CATEGORIES:Athletics
END:VEVENT
BEGIN:VEVENT
DTSTART;TZID=America/Chicago:20250319T150000
DTEND;TZID=America/Chicago:20250319T163000
DTSTAMP:20260423T101939
CREATED:20240731T152624Z
LAST-MODIFIED:20240806T014315Z
UID:10001957-1742396400-1742401800@www.ehcs.org
SUMMARY:Cheerleading Practice
DESCRIPTION:
URL:https://www.ehcs.org/event/cheerleading-practice-32/
LOCATION:FL
CATEGORIES:Athletics
END:VEVENT
BEGIN:VEVENT
DTSTART;TZID=America/Chicago:20250326T150000
DTEND;TZID=America/Chicago:20250326T163000
DTSTAMP:20260423T101939
CREATED:20240731T152624Z
LAST-MODIFIED:20240806T014315Z
UID:10001958-1743001200-1743006600@www.ehcs.org
SUMMARY:Cheerleading Practice
DESCRIPTION:
URL:https://www.ehcs.org/event/cheerleading-practice-33/
LOCATION:FL
CATEGORIES:Athletics
END:VEVENT
END:VCALENDAR