BEGIN:VCALENDAR
VERSION:2.0
PRODID:-//East Hill Christian School - ECPv6.15.20//NONSGML v1.0//EN
CALSCALE:GREGORIAN
METHOD:PUBLISH
X-WR-CALNAME:East Hill Christian School
X-ORIGINAL-URL:https://www.ehcs.org
X-WR-CALDESC:Events for East Hill Christian School
REFRESH-INTERVAL;VALUE=DURATION:PT1H
X-Robots-Tag:noindex
X-PUBLISHED-TTL:PT1H
BEGIN:VTIMEZONE
TZID:America/Chicago
BEGIN:DAYLIGHT
TZOFFSETFROM:-0600
TZOFFSETTO:-0500
TZNAME:CDT
DTSTART:20240310T080000
END:DAYLIGHT
BEGIN:STANDARD
TZOFFSETFROM:-0500
TZOFFSETTO:-0600
TZNAME:CST
DTSTART:20241103T070000
END:STANDARD
BEGIN:DAYLIGHT
TZOFFSETFROM:-0600
TZOFFSETTO:-0500
TZNAME:CDT
DTSTART:20250309T080000
END:DAYLIGHT
BEGIN:STANDARD
TZOFFSETFROM:-0500
TZOFFSETTO:-0600
TZNAME:CST
DTSTART:20251102T070000
END:STANDARD
BEGIN:DAYLIGHT
TZOFFSETFROM:-0600
TZOFFSETTO:-0500
TZNAME:CDT
DTSTART:20260308T080000
END:DAYLIGHT
BEGIN:STANDARD
TZOFFSETFROM:-0500
TZOFFSETTO:-0600
TZNAME:CST
DTSTART:20261101T070000
END:STANDARD
END:VTIMEZONE
BEGIN:VEVENT
DTSTART;TZID=America/Chicago:20250129T150000
DTEND;TZID=America/Chicago:20250129T163000
DTSTAMP:20260423T104902
CREATED:20240731T152623Z
LAST-MODIFIED:20240806T014314Z
UID:10001948-1738162800-1738168200@www.ehcs.org
SUMMARY:Cheerleading Practice
DESCRIPTION:
URL:https://www.ehcs.org/event/cheerleading-practice-25/
LOCATION:FL
CATEGORIES:Athletics
END:VEVENT
BEGIN:VEVENT
DTSTART;TZID=America/Chicago:20250205T150000
DTEND;TZID=America/Chicago:20250205T163000
DTSTAMP:20260423T104902
CREATED:20240731T152623Z
LAST-MODIFIED:20240806T014314Z
UID:10001949-1738767600-1738773000@www.ehcs.org
SUMMARY:Cheerleading Practice
DESCRIPTION:
URL:https://www.ehcs.org/event/cheerleading-practice-26/
LOCATION:FL
CATEGORIES:Athletics
END:VEVENT
BEGIN:VEVENT
DTSTART;TZID=America/Chicago:20250212T150000
DTEND;TZID=America/Chicago:20250212T163000
DTSTAMP:20260423T104902
CREATED:20240731T152623Z
LAST-MODIFIED:20240806T014314Z
UID:10001950-1739372400-1739377800@www.ehcs.org
SUMMARY:Cheerleading Practice
DESCRIPTION:
URL:https://www.ehcs.org/event/cheerleading-practice-27/
LOCATION:FL
CATEGORIES:Athletics
END:VEVENT
BEGIN:VEVENT
DTSTART;VALUE=DATE:20250213
DTEND;VALUE=DATE:20250216
DTSTAMP:20260423T104902
CREATED:20240731T152623Z
LAST-MODIFIED:20250215T234557Z
UID:10001951-1739404800-1739663999@www.ehcs.org
SUMMARY:PCC Basketball Regionals
DESCRIPTION:
URL:https://www.ehcs.org/event/pcc-basketball-regionals/
LOCATION:Gulf Pointe Latin School\, 7624 E Bay Blvd\, Gulf Breeze\, FL\, United States
CATEGORIES:Athletics,General
GEO:30.43288;-86.90865
X-APPLE-STRUCTURED-LOCATION;VALUE=URI;X-ADDRESS=Gulf Pointe Latin School 7624 E Bay Blvd Gulf Breeze FL United States;X-APPLE-RADIUS=500;X-TITLE=7624 E Bay Blvd:geo:-86.90865,30.43288
END:VEVENT
BEGIN:VEVENT
DTSTART;TZID=America/Chicago:20250219T150000
DTEND;TZID=America/Chicago:20250219T163000
DTSTAMP:20260423T104902
CREATED:20240731T152623Z
LAST-MODIFIED:20240806T014314Z
UID:10001952-1739977200-1739982600@www.ehcs.org
SUMMARY:Cheerleading Practice
DESCRIPTION:
URL:https://www.ehcs.org/event/cheerleading-practice-28/
LOCATION:FL
CATEGORIES:Athletics
END:VEVENT
BEGIN:VEVENT
DTSTART;VALUE=DATE:20250221
DTEND;VALUE=DATE:20250223
DTSTAMP:20260423T104902
CREATED:20240731T152624Z
LAST-MODIFIED:20250222T233123Z
UID:10001953-1740096000-1740268799@www.ehcs.org
SUMMARY:PCC Basketball Championships
DESCRIPTION:
URL:https://www.ehcs.org/event/pcc-basketball-championships/
LOCATION:West Florida Baptist Academy\, Milton\, FL\, United States
CATEGORIES:Athletics,General
GEO:30.577638;-86.966835
END:VEVENT
BEGIN:VEVENT
DTSTART;TZID=America/Chicago:20250226T150000
DTEND;TZID=America/Chicago:20250226T163000
DTSTAMP:20260423T104902
CREATED:20240731T152624Z
LAST-MODIFIED:20240806T014315Z
UID:10001954-1740582000-1740587400@www.ehcs.org
SUMMARY:Cheerleading Practice
DESCRIPTION:
URL:https://www.ehcs.org/event/cheerleading-practice-29/
LOCATION:FL
CATEGORIES:Athletics
END:VEVENT
BEGIN:VEVENT
DTSTART;TZID=America/Chicago:20250305T150000
DTEND;TZID=America/Chicago:20250305T163000
DTSTAMP:20260423T104902
CREATED:20240731T152624Z
LAST-MODIFIED:20240806T014315Z
UID:10001955-1741186800-1741192200@www.ehcs.org
SUMMARY:Cheerleading Practice
DESCRIPTION:
URL:https://www.ehcs.org/event/cheerleading-practice-30/
LOCATION:FL
CATEGORIES:Athletics
END:VEVENT
BEGIN:VEVENT
DTSTART;TZID=America/Chicago:20250312T150000
DTEND;TZID=America/Chicago:20250312T163000
DTSTAMP:20260423T104902
CREATED:20240731T152624Z
LAST-MODIFIED:20240806T014315Z
UID:10001956-1741791600-1741797000@www.ehcs.org
SUMMARY:Cheerleading Practice
DESCRIPTION:
URL:https://www.ehcs.org/event/cheerleading-practice-31/
LOCATION:FL
CATEGORIES:Athletics
END:VEVENT
BEGIN:VEVENT
DTSTART;TZID=America/Chicago:20250319T150000
DTEND;TZID=America/Chicago:20250319T163000
DTSTAMP:20260423T104902
CREATED:20240731T152624Z
LAST-MODIFIED:20240806T014315Z
UID:10001957-1742396400-1742401800@www.ehcs.org
SUMMARY:Cheerleading Practice
DESCRIPTION:
URL:https://www.ehcs.org/event/cheerleading-practice-32/
LOCATION:FL
CATEGORIES:Athletics
END:VEVENT
BEGIN:VEVENT
DTSTART;TZID=America/Chicago:20250326T150000
DTEND;TZID=America/Chicago:20250326T163000
DTSTAMP:20260423T104902
CREATED:20240731T152624Z
LAST-MODIFIED:20240806T014315Z
UID:10001958-1743001200-1743006600@www.ehcs.org
SUMMARY:Cheerleading Practice
DESCRIPTION:
URL:https://www.ehcs.org/event/cheerleading-practice-33/
LOCATION:FL
CATEGORIES:Athletics
END:VEVENT
BEGIN:VEVENT
DTSTART;TZID=America/Chicago:20250402T150000
DTEND;TZID=America/Chicago:20250402T163000
DTSTAMP:20260423T104902
CREATED:20240731T152625Z
LAST-MODIFIED:20240806T014315Z
UID:10001959-1743606000-1743611400@www.ehcs.org
SUMMARY:Cheerleading Practice
DESCRIPTION:
URL:https://www.ehcs.org/event/cheerleading-practice-34/
LOCATION:FL
CATEGORIES:Athletics
END:VEVENT
BEGIN:VEVENT
DTSTART;TZID=America/Chicago:20250409T150000
DTEND;TZID=America/Chicago:20250409T163000
DTSTAMP:20260423T104902
CREATED:20240731T152625Z
LAST-MODIFIED:20240806T014315Z
UID:10001960-1744210800-1744216200@www.ehcs.org
SUMMARY:Cheerleading Practice
DESCRIPTION:
URL:https://www.ehcs.org/event/cheerleading-practice-35/
LOCATION:FL
CATEGORIES:Athletics
END:VEVENT
BEGIN:VEVENT
DTSTART;TZID=America/Chicago:20250410T133000
DTEND;TZID=America/Chicago:20250412T143000
DTSTAMP:20260423T104902
CREATED:20241115T194420Z
LAST-MODIFIED:20250412T192754Z
UID:10002184-1744291800-1744468200@www.ehcs.org
SUMMARY:Drama (Tentative)
DESCRIPTION:
URL:https://www.ehcs.org/event/drama-tentative-2/
LOCATION:FL
CATEGORIES:Athletics
END:VEVENT
BEGIN:VEVENT
DTSTART;TZID=America/Chicago:20250416T150000
DTEND;TZID=America/Chicago:20250416T163000
DTSTAMP:20260423T104902
CREATED:20240731T152625Z
LAST-MODIFIED:20240806T014315Z
UID:10001961-1744815600-1744821000@www.ehcs.org
SUMMARY:Cheerleading Practice
DESCRIPTION:
URL:https://www.ehcs.org/event/cheerleading-practice-36/
LOCATION:FL
CATEGORIES:Athletics
END:VEVENT
BEGIN:VEVENT
DTSTART;VALUE=DATE:20250422
DTEND;VALUE=DATE:20250427
DTSTAMP:20260423T104902
CREATED:20240731T152625Z
LAST-MODIFIED:20250426T234440Z
UID:10001962-1745280000-1745711999@www.ehcs.org
SUMMARY:PCC Baseball & Softball Regionals
DESCRIPTION:
URL:https://www.ehcs.org/event/pcc-baseball-regionals/
LOCATION:Bellview Athletic Park\, 2750 Longleaf Dr\, Pensacola\, FL\, United States
CATEGORIES:Athletics,General
GEO:30.48664;-87.300381
X-APPLE-STRUCTURED-LOCATION;VALUE=URI;X-ADDRESS=Bellview Athletic Park 2750 Longleaf Dr Pensacola FL United States;X-APPLE-RADIUS=500;X-TITLE=2750 Longleaf Dr:geo:-87.300381,30.48664
END:VEVENT
BEGIN:VEVENT
DTSTART;TZID=America/Chicago:20250423T150000
DTEND;TZID=America/Chicago:20250423T163000
DTSTAMP:20260423T104902
CREATED:20240731T152625Z
LAST-MODIFIED:20240806T014316Z
UID:10001963-1745420400-1745425800@www.ehcs.org
SUMMARY:Cheerleading Practice
DESCRIPTION:
URL:https://www.ehcs.org/event/cheerleading-practice-37/
LOCATION:FL
CATEGORIES:Athletics
END:VEVENT
BEGIN:VEVENT
DTSTART;VALUE=DATE:20250426
DTEND;VALUE=DATE:20250427
DTSTAMP:20260423T104902
CREATED:20241121T152901Z
LAST-MODIFIED:20250426T232958Z
UID:10002189-1745625600-1745711999@www.ehcs.org
SUMMARY:DLeague at East Hill (Tentative)
DESCRIPTION:
URL:https://www.ehcs.org/event/dleague-at-east-hill-tentative/
LOCATION:FL
CATEGORIES:Athletics
END:VEVENT
BEGIN:VEVENT
DTSTART;VALUE=DATE:20250429
DTEND;VALUE=DATE:20250503
DTSTAMP:20260423T104902
CREATED:20240731T152626Z
LAST-MODIFIED:20250502T234503Z
UID:10001965-1745884800-1746230399@www.ehcs.org
SUMMARY:PCC Baseball and Softball Championships
DESCRIPTION:
URL:https://www.ehcs.org/event/pcc-baseball-and-softball-championships/
LOCATION:Aletheia Christian Academy\, 1700 Woodchuck Ave\, Pensacola\, FL\, United States
CATEGORIES:Athletics,General
GEO:30.49842;-87.167701
X-APPLE-STRUCTURED-LOCATION;VALUE=URI;X-ADDRESS=Aletheia Christian Academy 1700 Woodchuck Ave Pensacola FL United States;X-APPLE-RADIUS=500;X-TITLE=1700 Woodchuck Ave:geo:-87.167701,30.49842
END:VEVENT
BEGIN:VEVENT
DTSTART;TZID=America/Chicago:20250430T150000
DTEND;TZID=America/Chicago:20250430T163000
DTSTAMP:20260423T104902
CREATED:20240731T152625Z
LAST-MODIFIED:20240806T014316Z
UID:10001964-1746025200-1746030600@www.ehcs.org
SUMMARY:Cheerleading Practice
DESCRIPTION:
URL:https://www.ehcs.org/event/cheerleading-practice-38/
LOCATION:FL
CATEGORIES:Athletics
END:VEVENT
BEGIN:VEVENT
DTSTART;TZID=America/Chicago:20250507T150000
DTEND;TZID=America/Chicago:20250507T163000
DTSTAMP:20260423T104902
CREATED:20240731T152626Z
LAST-MODIFIED:20240806T014316Z
UID:10001966-1746630000-1746635400@www.ehcs.org
SUMMARY:Cheerleading Practice
DESCRIPTION:
URL:https://www.ehcs.org/event/cheerleading-practice-39/
LOCATION:FL
CATEGORIES:Athletics
END:VEVENT
BEGIN:VEVENT
DTSTART;TZID=America/Chicago:20250514T150000
DTEND;TZID=America/Chicago:20250514T163000
DTSTAMP:20260423T104902
CREATED:20240731T152626Z
LAST-MODIFIED:20240806T014316Z
UID:10001967-1747234800-1747240200@www.ehcs.org
SUMMARY:Cheerleading Practice
DESCRIPTION:
URL:https://www.ehcs.org/event/cheerleading-practice-40/
LOCATION:FL
CATEGORIES:Athletics
END:VEVENT
BEGIN:VEVENT
DTSTART;TZID=America/Chicago:20250521T150000
DTEND;TZID=America/Chicago:20250521T163000
DTSTAMP:20260423T104902
CREATED:20240731T152626Z
LAST-MODIFIED:20240806T014316Z
UID:10001968-1747839600-1747845000@www.ehcs.org
SUMMARY:Cheerleading Practice
DESCRIPTION:
URL:https://www.ehcs.org/event/cheerleading-practice-41/
LOCATION:FL
CATEGORIES:Athletics
END:VEVENT
BEGIN:VEVENT
DTSTART;TZID=America/Chicago:20250528T150000
DTEND;TZID=America/Chicago:20250528T163000
DTSTAMP:20260423T104902
CREATED:20240731T152626Z
LAST-MODIFIED:20240806T014316Z
UID:10001969-1748444400-1748449800@www.ehcs.org
SUMMARY:Cheerleading Practice
DESCRIPTION:
URL:https://www.ehcs.org/event/cheerleading-practice-42/
LOCATION:FL
CATEGORIES:Athletics
END:VEVENT
BEGIN:VEVENT
DTSTART;TZID=America/Chicago:20250604T150000
DTEND;TZID=America/Chicago:20250604T163000
DTSTAMP:20260423T104902
CREATED:20240731T152626Z
LAST-MODIFIED:20240806T014316Z
UID:10001970-1749049200-1749054600@www.ehcs.org
SUMMARY:Cheerleading Practice
DESCRIPTION:
URL:https://www.ehcs.org/event/cheerleading-practice-43/
LOCATION:FL
CATEGORIES:Athletics
END:VEVENT
BEGIN:VEVENT
DTSTART;TZID=America/Chicago:20250611T150000
DTEND;TZID=America/Chicago:20250611T163000
DTSTAMP:20260423T104902
CREATED:20240731T152626Z
LAST-MODIFIED:20240806T014317Z
UID:10001971-1749654000-1749659400@www.ehcs.org
SUMMARY:Cheerleading Practice
DESCRIPTION:
URL:https://www.ehcs.org/event/cheerleading-practice-44/
LOCATION:FL
CATEGORIES:Athletics
END:VEVENT
BEGIN:VEVENT
DTSTART;TZID=America/Chicago:20250618T150000
DTEND;TZID=America/Chicago:20250618T163000
DTSTAMP:20260423T104902
CREATED:20240731T152626Z
LAST-MODIFIED:20240806T014317Z
UID:10001972-1750258800-1750264200@www.ehcs.org
SUMMARY:Cheerleading Practice
DESCRIPTION:
URL:https://www.ehcs.org/event/cheerleading-practice-45/
LOCATION:FL
CATEGORIES:Athletics
END:VEVENT
BEGIN:VEVENT
DTSTART;TZID=America/Chicago:20250625T150000
DTEND;TZID=America/Chicago:20250625T163000
DTSTAMP:20260423T104902
CREATED:20240731T152627Z
LAST-MODIFIED:20240806T014317Z
UID:10001973-1750863600-1750869000@www.ehcs.org
SUMMARY:Cheerleading Practice
DESCRIPTION:
URL:https://www.ehcs.org/event/cheerleading-practice-46/
LOCATION:FL
CATEGORIES:Athletics
END:VEVENT
BEGIN:VEVENT
DTSTART;TZID=America/Chicago:20250702T150000
DTEND;TZID=America/Chicago:20250702T163000
DTSTAMP:20260423T104902
CREATED:20240731T152627Z
LAST-MODIFIED:20240806T014317Z
UID:10001974-1751468400-1751473800@www.ehcs.org
SUMMARY:Cheerleading Practice
DESCRIPTION:
URL:https://www.ehcs.org/event/cheerleading-practice-47/
LOCATION:FL
CATEGORIES:Athletics
END:VEVENT
BEGIN:VEVENT
DTSTART;TZID=America/Chicago:20250709T150000
DTEND;TZID=America/Chicago:20250709T163000
DTSTAMP:20260423T104902
CREATED:20240731T152627Z
LAST-MODIFIED:20240806T014317Z
UID:10001975-1752073200-1752078600@www.ehcs.org
SUMMARY:Cheerleading Practice
DESCRIPTION:
URL:https://www.ehcs.org/event/cheerleading-practice-48/
LOCATION:FL
CATEGORIES:Athletics
END:VEVENT
END:VCALENDAR