BEGIN:VCALENDAR
VERSION:2.0
PRODID:-//East Hill Christian School - ECPv6.15.20//NONSGML v1.0//EN
CALSCALE:GREGORIAN
METHOD:PUBLISH
X-ORIGINAL-URL:https://www.ehcs.org
X-WR-CALDESC:Events for East Hill Christian School
REFRESH-INTERVAL;VALUE=DURATION:PT1H
X-Robots-Tag:noindex
X-PUBLISHED-TTL:PT1H
BEGIN:VTIMEZONE
TZID:America/Chicago
BEGIN:DAYLIGHT
TZOFFSETFROM:-0600
TZOFFSETTO:-0500
TZNAME:CDT
DTSTART:20250309T080000
END:DAYLIGHT
BEGIN:STANDARD
TZOFFSETFROM:-0500
TZOFFSETTO:-0600
TZNAME:CST
DTSTART:20251102T070000
END:STANDARD
BEGIN:DAYLIGHT
TZOFFSETFROM:-0600
TZOFFSETTO:-0500
TZNAME:CDT
DTSTART:20260308T080000
END:DAYLIGHT
BEGIN:STANDARD
TZOFFSETFROM:-0500
TZOFFSETTO:-0600
TZNAME:CST
DTSTART:20261101T070000
END:STANDARD
BEGIN:DAYLIGHT
TZOFFSETFROM:-0600
TZOFFSETTO:-0500
TZNAME:CDT
DTSTART:20270314T080000
END:DAYLIGHT
BEGIN:STANDARD
TZOFFSETFROM:-0500
TZOFFSETTO:-0600
TZNAME:CST
DTSTART:20271107T070000
END:STANDARD
END:VTIMEZONE
BEGIN:VEVENT
DTSTART;TZID=America/Chicago:20260414T163000
DTEND;TZID=America/Chicago:20260414T180000
DTSTAMP:20260424T113732
CREATED:20260124T173005Z
LAST-MODIFIED:20260414T225748Z
UID:10002697-1776184200-1776189600@www.ehcs.org
SUMMARY:EHCS Softball vs Atmore
DESCRIPTION:
URL:https://www.ehcs.org/event/ehcs-softball-vs-atmore/
LOCATION:Lions Park\, 1201 E la Rua St\, Pensacola\, FL\, United States
CATEGORIES:General
GEO:30.421004;-87.202007
X-APPLE-STRUCTURED-LOCATION;VALUE=URI;X-ADDRESS=Lions Park 1201 E la Rua St Pensacola FL United States;X-APPLE-RADIUS=500;X-TITLE=1201 E la Rua St:geo:-87.202007,30.421004
END:VEVENT
BEGIN:VEVENT
DTSTART;TZID=America/Chicago:20260409T163000
DTEND;TZID=America/Chicago:20260409T180000
DTSTAMP:20260424T113732
CREATED:20260124T173005Z
LAST-MODIFIED:20260407T114240Z
UID:10002696-1775752200-1775757600@www.ehcs.org
SUMMARY:EHCS Softball vs Aletheia
DESCRIPTION:
URL:https://www.ehcs.org/event/ehcs-softball-vs-aletheia/
LOCATION:Lions Park\, 1201 E la Rua St\, Pensacola\, FL\, United States
CATEGORIES:General
GEO:30.421004;-87.202007
X-APPLE-STRUCTURED-LOCATION;VALUE=URI;X-ADDRESS=Lions Park 1201 E la Rua St Pensacola FL United States;X-APPLE-RADIUS=500;X-TITLE=1201 E la Rua St:geo:-87.202007,30.421004
END:VEVENT
BEGIN:VEVENT
DTSTART;TZID=America/Chicago:20260407T163000
DTEND;TZID=America/Chicago:20260407T180000
DTSTAMP:20260424T113732
CREATED:20260124T173004Z
LAST-MODIFIED:20260407T114240Z
UID:10002695-1775579400-1775584800@www.ehcs.org
SUMMARY:EHCS Softball vs Laurel Hill
DESCRIPTION:
URL:https://www.ehcs.org/event/ehcs-softball-vs-laurel-hill/
LOCATION:Lions Park\, 1201 E la Rua St\, Pensacola\, FL\, United States
CATEGORIES:General
GEO:30.421004;-87.202007
X-APPLE-STRUCTURED-LOCATION;VALUE=URI;X-ADDRESS=Lions Park 1201 E la Rua St Pensacola FL United States;X-APPLE-RADIUS=500;X-TITLE=1201 E la Rua St:geo:-87.202007,30.421004
END:VEVENT
BEGIN:VEVENT
DTSTART;TZID=America/Chicago:20260331T163000
DTEND;TZID=America/Chicago:20260331T180000
DTSTAMP:20260424T113732
CREATED:20260124T173004Z
LAST-MODIFIED:20260331T171241Z
UID:10002694-1774974600-1774980000@www.ehcs.org
SUMMARY:EHCS Softball vs WFBA
DESCRIPTION:
URL:https://www.ehcs.org/event/ehcs-softball-vs-wfba-2/
LOCATION:Lions Park\, 1201 E la Rua St\, Pensacola\, FL\, United States
CATEGORIES:General
GEO:30.421004;-87.202007
X-APPLE-STRUCTURED-LOCATION;VALUE=URI;X-ADDRESS=Lions Park 1201 E la Rua St Pensacola FL United States;X-APPLE-RADIUS=500;X-TITLE=1201 E la Rua St:geo:-87.202007,30.421004
END:VEVENT
BEGIN:VEVENT
DTSTART;TZID=America/Chicago:20260326T163000
DTEND;TZID=America/Chicago:20260326T180000
DTSTAMP:20260424T113732
CREATED:20260124T173004Z
LAST-MODIFIED:20260326T184359Z
UID:10002693-1774542600-1774548000@www.ehcs.org
SUMMARY:EHCS Softball vs Central
DESCRIPTION:
URL:https://www.ehcs.org/event/ehcs-softball-vs-central/
LOCATION:Lions Park\, 1201 E la Rua St\, Pensacola\, FL\, United States
CATEGORIES:General
GEO:30.421004;-87.202007
X-APPLE-STRUCTURED-LOCATION;VALUE=URI;X-ADDRESS=Lions Park 1201 E la Rua St Pensacola FL United States;X-APPLE-RADIUS=500;X-TITLE=1201 E la Rua St:geo:-87.202007,30.421004
END:VEVENT
BEGIN:VEVENT
DTSTART;TZID=America/Chicago:20260305T163000
DTEND;TZID=America/Chicago:20260305T180000
DTSTAMP:20260424T113732
CREATED:20260122T192948Z
LAST-MODIFIED:20260305T234452Z
UID:10002690-1772728200-1772733600@www.ehcs.org
SUMMARY:EHCS Softball vs Santa Rosa
DESCRIPTION:
URL:https://www.ehcs.org/event/ehcs-softball-vs-santa-rosa/
LOCATION:Lions Park\, 1201 E la Rua St\, Pensacola\, FL\, United States
CATEGORIES:General
GEO:30.421004;-87.202007
X-APPLE-STRUCTURED-LOCATION;VALUE=URI;X-ADDRESS=Lions Park 1201 E la Rua St Pensacola FL United States;X-APPLE-RADIUS=500;X-TITLE=1201 E la Rua St:geo:-87.202007,30.421004
END:VEVENT
BEGIN:VEVENT
DTSTART;TZID=America/Chicago:20260303T163000
DTEND;TZID=America/Chicago:20260303T180000
DTSTAMP:20260424T113732
CREATED:20260122T192947Z
LAST-MODIFIED:20260304T000018Z
UID:10002689-1772555400-1772560800@www.ehcs.org
SUMMARY:EHCS Softball vs WFBA
DESCRIPTION:
URL:https://www.ehcs.org/event/ehcs-softball-vs-wfba/
LOCATION:Lions Park\, 1201 E la Rua St\, Pensacola\, FL\, United States
CATEGORIES:General
GEO:30.421004;-87.202007
X-APPLE-STRUCTURED-LOCATION;VALUE=URI;X-ADDRESS=Lions Park 1201 E la Rua St Pensacola FL United States;X-APPLE-RADIUS=500;X-TITLE=1201 E la Rua St:geo:-87.202007,30.421004
END:VEVENT
END:VCALENDAR