BEGIN:VCALENDAR
VERSION:2.0
PRODID:-//East Hill Christian School - ECPv6.15.20//NONSGML v1.0//EN
CALSCALE:GREGORIAN
METHOD:PUBLISH
X-WR-CALNAME:East Hill Christian School
X-ORIGINAL-URL:https://www.ehcs.org
X-WR-CALDESC:Events for East Hill Christian School
REFRESH-INTERVAL;VALUE=DURATION:PT1H
X-Robots-Tag:noindex
X-PUBLISHED-TTL:PT1H
BEGIN:VTIMEZONE
TZID:America/Chicago
BEGIN:DAYLIGHT
TZOFFSETFROM:-0600
TZOFFSETTO:-0500
TZNAME:CDT
DTSTART:20230312T080000
END:DAYLIGHT
BEGIN:STANDARD
TZOFFSETFROM:-0500
TZOFFSETTO:-0600
TZNAME:CST
DTSTART:20231105T070000
END:STANDARD
BEGIN:DAYLIGHT
TZOFFSETFROM:-0600
TZOFFSETTO:-0500
TZNAME:CDT
DTSTART:20240310T080000
END:DAYLIGHT
BEGIN:STANDARD
TZOFFSETFROM:-0500
TZOFFSETTO:-0600
TZNAME:CST
DTSTART:20241103T070000
END:STANDARD
BEGIN:DAYLIGHT
TZOFFSETFROM:-0600
TZOFFSETTO:-0500
TZNAME:CDT
DTSTART:20250309T080000
END:DAYLIGHT
BEGIN:STANDARD
TZOFFSETFROM:-0500
TZOFFSETTO:-0600
TZNAME:CST
DTSTART:20251102T070000
END:STANDARD
BEGIN:DAYLIGHT
TZOFFSETFROM:-0600
TZOFFSETTO:-0500
TZNAME:CDT
DTSTART:20260308T080000
END:DAYLIGHT
BEGIN:STANDARD
TZOFFSETFROM:-0500
TZOFFSETTO:-0600
TZNAME:CST
DTSTART:20261101T070000
END:STANDARD
BEGIN:DAYLIGHT
TZOFFSETFROM:-0600
TZOFFSETTO:-0500
TZNAME:CDT
DTSTART:20270314T080000
END:DAYLIGHT
BEGIN:STANDARD
TZOFFSETFROM:-0500
TZOFFSETTO:-0600
TZNAME:CST
DTSTART:20271107T070000
END:STANDARD
END:VTIMEZONE
BEGIN:VEVENT
DTSTART;TZID=America/Chicago:20260324T163000
DTEND;TZID=America/Chicago:20260324T180000
DTSTAMP:20260422T150015
CREATED:20260124T173003Z
LAST-MODIFIED:20260324T181238Z
UID:10002692-1774369800-1774375200@www.ehcs.org
SUMMARY:EHCS Softball @ Santa Rosa
DESCRIPTION:
URL:https://www.ehcs.org/event/ehcs-softball-santa-rosa/
LOCATION:Santa Rosa Christian School\, 6331 Chestnut St\, Milton\, FL\, United States
CATEGORIES:General
GEO:30.640514;-87.059789
X-APPLE-STRUCTURED-LOCATION;VALUE=URI;X-ADDRESS=Santa Rosa Christian School 6331 Chestnut St Milton FL United States;X-APPLE-RADIUS=500;X-TITLE=6331 Chestnut St:geo:-87.059789,30.640514
END:VEVENT
BEGIN:VEVENT
DTSTART;TZID=America/Chicago:20260113T183000
DTEND;TZID=America/Chicago:20260113T193000
DTSTAMP:20260422T150015
CREATED:20250903T164503Z
LAST-MODIFIED:20260114T012943Z
UID:10002577-1768329000-1768332600@www.ehcs.org
SUMMARY:EHCS Varsity Boys B-ball @ Santa Rosa
DESCRIPTION:
URL:https://www.ehcs.org/event/ehcs-varsity-boys-b-ball-santa-rosa/
LOCATION:Santa Rosa Christian School\, 6331 Chestnut St\, Milton\, FL\, United States
CATEGORIES:General
GEO:30.640514;-87.059789
X-APPLE-STRUCTURED-LOCATION;VALUE=URI;X-ADDRESS=Santa Rosa Christian School 6331 Chestnut St Milton FL United States;X-APPLE-RADIUS=500;X-TITLE=6331 Chestnut St:geo:-87.059789,30.640514
END:VEVENT
BEGIN:VEVENT
DTSTART;TZID=America/Chicago:20260113T170000
DTEND;TZID=America/Chicago:20260113T180000
DTSTAMP:20260422T150015
CREATED:20250903T164502Z
LAST-MODIFIED:20260113T234447Z
UID:10002576-1768323600-1768327200@www.ehcs.org
SUMMARY:EHCS Lady Eagles B-ball @ Santa Rosa
DESCRIPTION:
URL:https://www.ehcs.org/event/ehcs-lady-eagles-b-ball-santa-rosa/
LOCATION:Santa Rosa Christian School\, 6331 Chestnut St\, Milton\, FL\, United States
CATEGORIES:General
GEO:30.640514;-87.059789
X-APPLE-STRUCTURED-LOCATION;VALUE=URI;X-ADDRESS=Santa Rosa Christian School 6331 Chestnut St Milton FL United States;X-APPLE-RADIUS=500;X-TITLE=6331 Chestnut St:geo:-87.059789,30.640514
END:VEVENT
BEGIN:VEVENT
DTSTART;TZID=America/Chicago:20260113T160000
DTEND;TZID=America/Chicago:20260113T170000
DTSTAMP:20260422T150015
CREATED:20250903T161456Z
LAST-MODIFIED:20260113T225937Z
UID:10002575-1768320000-1768323600@www.ehcs.org
SUMMARY:EHCS JV Boys B-ball @ Santa Rosa
DESCRIPTION:
URL:https://www.ehcs.org/event/ehcs-jv-boys-b-ball-santa-rosa/
LOCATION:Santa Rosa Christian School\, 6331 Chestnut St\, Milton\, FL\, United States
CATEGORIES:General
GEO:30.640514;-87.059789
X-APPLE-STRUCTURED-LOCATION;VALUE=URI;X-ADDRESS=Santa Rosa Christian School 6331 Chestnut St Milton FL United States;X-APPLE-RADIUS=500;X-TITLE=6331 Chestnut St:geo:-87.059789,30.640514
END:VEVENT
BEGIN:VEVENT
DTSTART;TZID=America/Chicago:20241012T123000
DTEND;TZID=America/Chicago:20241012T133000
DTSTAMP:20260422T150015
CREATED:20241003T194544Z
LAST-MODIFIED:20241012T175751Z
UID:10002148-1728736200-1728739800@www.ehcs.org
SUMMARY:Varsity Volleyball East Regional Championship
DESCRIPTION:
URL:https://www.ehcs.org/event/varsity-volleyball-east-regional-championship/
LOCATION:Santa Rosa Christian School\, 6331 Chestnut St\, Milton\, FL\, United States
CATEGORIES:General
GEO:30.640514;-87.059789
X-APPLE-STRUCTURED-LOCATION;VALUE=URI;X-ADDRESS=Santa Rosa Christian School 6331 Chestnut St Milton FL United States;X-APPLE-RADIUS=500;X-TITLE=6331 Chestnut St:geo:-87.059789,30.640514
END:VEVENT
BEGIN:VEVENT
DTSTART;TZID=America/Chicago:20241011T190000
DTEND;TZID=America/Chicago:20241011T200000
DTSTAMP:20260422T150015
CREATED:20241003T194544Z
LAST-MODIFIED:20241012T001324Z
UID:10002147-1728673200-1728676800@www.ehcs.org
SUMMARY:East Hill Varsity Volleyball Regional Game
DESCRIPTION:
URL:https://www.ehcs.org/event/east-hill-varsity-volleyball-regional-game/
LOCATION:Santa Rosa Christian School\, 6331 Chestnut St\, Milton\, FL\, United States
CATEGORIES:General
GEO:30.640514;-87.059789
X-APPLE-STRUCTURED-LOCATION;VALUE=URI;X-ADDRESS=Santa Rosa Christian School 6331 Chestnut St Milton FL United States;X-APPLE-RADIUS=500;X-TITLE=6331 Chestnut St:geo:-87.059789,30.640514
END:VEVENT
BEGIN:VEVENT
DTSTART;VALUE=DATE:20241010
DTEND;VALUE=DATE:20241012
DTSTAMP:20260422T150015
CREATED:20240731T152620Z
LAST-MODIFIED:20241011T234322Z
UID:10001931-1728518400-1728691199@www.ehcs.org
SUMMARY:PCC Volleyball and Soccer Regionals
DESCRIPTION:
URL:https://www.ehcs.org/event/pcc-volleyball-regionals/
LOCATION:Santa Rosa Christian School\, 6331 Chestnut St\, Milton\, FL\, United States
CATEGORIES:Athletics,General
GEO:30.640514;-87.059789
X-APPLE-STRUCTURED-LOCATION;VALUE=URI;X-ADDRESS=Santa Rosa Christian School 6331 Chestnut St Milton FL United States;X-APPLE-RADIUS=500;X-TITLE=6331 Chestnut St:geo:-87.059789,30.640514
END:VEVENT
END:VCALENDAR