BEGIN:VCALENDAR
VERSION:2.0
PRODID:-//East Hill Christian School - ECPv6.15.20//NONSGML v1.0//EN
CALSCALE:GREGORIAN
METHOD:PUBLISH
X-ORIGINAL-URL:https://www.ehcs.org
X-WR-CALDESC:Events for East Hill Christian School
REFRESH-INTERVAL;VALUE=DURATION:PT1H
X-Robots-Tag:noindex
X-PUBLISHED-TTL:PT1H
BEGIN:VTIMEZONE
TZID:America/Chicago
BEGIN:DAYLIGHT
TZOFFSETFROM:-0600
TZOFFSETTO:-0500
TZNAME:CDT
DTSTART:20240310T080000
END:DAYLIGHT
BEGIN:STANDARD
TZOFFSETFROM:-0500
TZOFFSETTO:-0600
TZNAME:CST
DTSTART:20241103T070000
END:STANDARD
BEGIN:DAYLIGHT
TZOFFSETFROM:-0600
TZOFFSETTO:-0500
TZNAME:CDT
DTSTART:20250309T080000
END:DAYLIGHT
BEGIN:STANDARD
TZOFFSETFROM:-0500
TZOFFSETTO:-0600
TZNAME:CST
DTSTART:20251102T070000
END:STANDARD
BEGIN:DAYLIGHT
TZOFFSETFROM:-0600
TZOFFSETTO:-0500
TZNAME:CDT
DTSTART:20260308T080000
END:DAYLIGHT
BEGIN:STANDARD
TZOFFSETFROM:-0500
TZOFFSETTO:-0600
TZNAME:CST
DTSTART:20261101T070000
END:STANDARD
END:VTIMEZONE
BEGIN:VEVENT
DTSTART;TZID=America/Chicago:20251107T190000
DTEND;TZID=America/Chicago:20251107T200000
DTSTAMP:20260423T070928
CREATED:20250903T161449Z
LAST-MODIFIED:20251108T014521Z
UID:10002552-1762542000-1762545600@www.ehcs.org
SUMMARY:EHCS Varsity Boys B-ball @ South Baldwin
DESCRIPTION:
URL:https://www.ehcs.org/event/ehcs-varsity-boys-b-ball-south-baldwin/
LOCATION:South Baldwin Christian Academy\, Gulf Shores\, AL\, United States
CATEGORIES:General
GEO:30.269721;-87.750611
END:VEVENT
BEGIN:VEVENT
DTSTART;TZID=America/Chicago:20251107T173000
DTEND;TZID=America/Chicago:20251107T183000
DTSTAMP:20260423T070928
CREATED:20250903T161449Z
LAST-MODIFIED:20251108T001447Z
UID:10002551-1762536600-1762540200@www.ehcs.org
SUMMARY:EHCS Lady Eagles B-ball @ South Baldwin
DESCRIPTION:
URL:https://www.ehcs.org/event/ehcs-lady-eagles-b-ball-south-baldwin/
LOCATION:South Baldwin Christian Academy\, Gulf Shores\, AL\, United States
CATEGORIES:General
GEO:30.269721;-87.750611
END:VEVENT
BEGIN:VEVENT
DTSTART;TZID=America/Chicago:20251107T163000
DTEND;TZID=America/Chicago:20251107T173000
DTSTAMP:20260423T070928
CREATED:20250903T161449Z
LAST-MODIFIED:20251107T232937Z
UID:10002550-1762533000-1762536600@www.ehcs.org
SUMMARY:EHCS JV Boys B-ball @ South Baldwin
DESCRIPTION:Tbd
URL:https://www.ehcs.org/event/ehcs-jv-boys-b-ball-south-baldwin/
LOCATION:South Baldwin Christian Academy\, Gulf Shores\, AL\, United States
CATEGORIES:General
GEO:30.269721;-87.750611
END:VEVENT
BEGIN:VEVENT
DTSTART;TZID=America/Chicago:20250130T170000
DTEND;TZID=America/Chicago:20250130T203000
DTSTAMP:20260423T070928
CREATED:20241025T185757Z
LAST-MODIFIED:20250131T015755Z
UID:10002175-1738256400-1738269000@www.ehcs.org
SUMMARY:Basketball @ South Baldwin
DESCRIPTION:JV 5:00 PMGirls 6:00 PMVarsity 7:30 PM
URL:https://www.ehcs.org/event/basketball-south-baldwin/
LOCATION:South Baldwin Christian Academy\, Gulf Shores\, AL\, United States
CATEGORIES:General
GEO:30.269721;-87.750611
END:VEVENT
END:VCALENDAR