BEGIN:VCALENDAR
VERSION:2.0
PRODID:-//East Hill Christian School - ECPv6.15.20//NONSGML v1.0//EN
CALSCALE:GREGORIAN
METHOD:PUBLISH
X-WR-CALNAME:East Hill Christian School
X-ORIGINAL-URL:https://www.ehcs.org
X-WR-CALDESC:Events for East Hill Christian School
REFRESH-INTERVAL;VALUE=DURATION:PT1H
X-Robots-Tag:noindex
X-PUBLISHED-TTL:PT1H
BEGIN:VTIMEZONE
TZID:America/Chicago
BEGIN:DAYLIGHT
TZOFFSETFROM:-0600
TZOFFSETTO:-0500
TZNAME:CDT
DTSTART:20230312T080000
END:DAYLIGHT
BEGIN:STANDARD
TZOFFSETFROM:-0500
TZOFFSETTO:-0600
TZNAME:CST
DTSTART:20231105T070000
END:STANDARD
BEGIN:DAYLIGHT
TZOFFSETFROM:-0600
TZOFFSETTO:-0500
TZNAME:CDT
DTSTART:20240310T080000
END:DAYLIGHT
BEGIN:STANDARD
TZOFFSETFROM:-0500
TZOFFSETTO:-0600
TZNAME:CST
DTSTART:20241103T070000
END:STANDARD
BEGIN:DAYLIGHT
TZOFFSETFROM:-0600
TZOFFSETTO:-0500
TZNAME:CDT
DTSTART:20250309T080000
END:DAYLIGHT
BEGIN:STANDARD
TZOFFSETFROM:-0500
TZOFFSETTO:-0600
TZNAME:CST
DTSTART:20251102T070000
END:STANDARD
BEGIN:DAYLIGHT
TZOFFSETFROM:-0600
TZOFFSETTO:-0500
TZNAME:CDT
DTSTART:20260308T080000
END:DAYLIGHT
BEGIN:STANDARD
TZOFFSETFROM:-0500
TZOFFSETTO:-0600
TZNAME:CST
DTSTART:20261101T070000
END:STANDARD
END:VTIMEZONE
BEGIN:VEVENT
DTSTART;TZID=America/Chicago:20250125T153000
DTEND;TZID=America/Chicago:20250125T163000
DTSTAMP:20260423T082652
CREATED:20241226T171254Z
LAST-MODIFIED:20250116T151258Z
UID:10002203-1737819000-1737822600@www.ehcs.org
SUMMARY:2/3 Boys Bball vs. ACA blue
DESCRIPTION:
URL:https://www.ehcs.org/event/2-3-boys-bball-vs-aca-blue/
LOCATION:St Paul Catholic Church\, 3131 Hyde Park Rd\, Pensacola\, FL\, United States
CATEGORIES:General
GEO:30.439833;-87.179231
X-APPLE-STRUCTURED-LOCATION;VALUE=URI;X-ADDRESS=St Paul Catholic Church 3131 Hyde Park Rd Pensacola FL United States;X-APPLE-RADIUS=500;X-TITLE=3131 Hyde Park Rd:geo:-87.179231,30.439833
END:VEVENT
BEGIN:VEVENT
DTSTART;TZID=America/Chicago:20250125T153000
DTEND;TZID=America/Chicago:20250125T163000
DTSTAMP:20260423T082652
CREATED:20241226T171253Z
LAST-MODIFIED:20250125T222831Z
UID:10002198-1737819000-1737822600@www.ehcs.org
SUMMARY:2/3 Boys Bball vs ACA Lions Blue
DESCRIPTION:
URL:https://www.ehcs.org/event/2-3-boys-bball-vs-rls-green/
LOCATION:St Paul Catholic Church\, 3131 Hyde Park Rd\, Pensacola\, FL\, United States
CATEGORIES:General
GEO:30.439833;-87.179231
X-APPLE-STRUCTURED-LOCATION;VALUE=URI;X-ADDRESS=St Paul Catholic Church 3131 Hyde Park Rd Pensacola FL United States;X-APPLE-RADIUS=500;X-TITLE=3131 Hyde Park Rd:geo:-87.179231,30.439833
END:VEVENT
BEGIN:VEVENT
DTSTART;TZID=America/Chicago:20250125T140000
DTEND;TZID=America/Chicago:20250125T150000
DTSTAMP:20260423T082652
CREATED:20241226T171254Z
LAST-MODIFIED:20250125T205753Z
UID:10002202-1737813600-1737817200@www.ehcs.org
SUMMARY:2/3 Boys Bball vs Sacred Heart Red
DESCRIPTION:
URL:https://www.ehcs.org/event/2-3-boys-bball-vs-sacred-heart-red/
LOCATION:St Paul Catholic Church\, 3131 Hyde Park Rd\, Pensacola\, FL\, United States
CATEGORIES:General
GEO:30.439833;-87.179231
X-APPLE-STRUCTURED-LOCATION;VALUE=URI;X-ADDRESS=St Paul Catholic Church 3131 Hyde Park Rd Pensacola FL United States;X-APPLE-RADIUS=500;X-TITLE=3131 Hyde Park Rd:geo:-87.179231,30.439833
END:VEVENT
BEGIN:VEVENT
DTSTART;TZID=America/Chicago:20250118T144500
DTEND;TZID=America/Chicago:20250118T154500
DTSTAMP:20260423T082652
CREATED:20250114T144238Z
LAST-MODIFIED:20250118T212748Z
UID:10002209-1737211500-1737215100@www.ehcs.org
SUMMARY:2/3 Boys Basketball vs RLS Green
DESCRIPTION:
URL:https://www.ehcs.org/event/2-3-boys-basketball-vs-rls-green/
LOCATION:St Paul Catholic Church\, 3131 Hyde Park Rd\, Pensacola\, FL\, United States
CATEGORIES:General
GEO:30.439833;-87.179231
X-APPLE-STRUCTURED-LOCATION;VALUE=URI;X-ADDRESS=St Paul Catholic Church 3131 Hyde Park Rd Pensacola FL United States;X-APPLE-RADIUS=500;X-TITLE=3131 Hyde Park Rd:geo:-87.179231,30.439833
END:VEVENT
BEGIN:VEVENT
DTSTART;TZID=America/Chicago:20250111T191500
DTEND;TZID=America/Chicago:20250111T201500
DTSTAMP:20260423T082652
CREATED:20241226T171252Z
LAST-MODIFIED:20250112T021300Z
UID:10002193-1736622900-1736626500@www.ehcs.org
SUMMARY:2/3 Boys Bball vsEDS blue
DESCRIPTION:
URL:https://www.ehcs.org/event/2-3-boys-bball-vseds-blue/
LOCATION:St Paul Catholic Church\, 3131 Hyde Park Rd\, Pensacola\, FL\, United States
CATEGORIES:General
GEO:30.439833;-87.179231
X-APPLE-STRUCTURED-LOCATION;VALUE=URI;X-ADDRESS=St Paul Catholic Church 3131 Hyde Park Rd Pensacola FL United States;X-APPLE-RADIUS=500;X-TITLE=3131 Hyde Park Rd:geo:-87.179231,30.439833
END:VEVENT
BEGIN:VEVENT
DTSTART;TZID=America/Chicago:20241102T130000
DTEND;TZID=America/Chicago:20241102T140000
DTSTAMP:20260423T082652
CREATED:20240926T204258Z
LAST-MODIFIED:20241102T174423Z
UID:10002144-1730552400-1730556000@www.ehcs.org
SUMMARY:4th and 5th Grade Volleyball vs Sacred Heart
DESCRIPTION:
URL:https://www.ehcs.org/event/4th-and-5th-grade-volleyball-vs-sacred-heart/
LOCATION:St Paul Catholic Church\, 3131 Hyde Park Rd\, Pensacola\, FL\, United States
CATEGORIES:General
GEO:30.439833;-87.179231
X-APPLE-STRUCTURED-LOCATION;VALUE=URI;X-ADDRESS=St Paul Catholic Church 3131 Hyde Park Rd Pensacola FL United States;X-APPLE-RADIUS=500;X-TITLE=3131 Hyde Park Rd:geo:-87.179231,30.439833
END:VEVENT
BEGIN:VEVENT
DTSTART;TZID=America/Chicago:20241102T090000
DTEND;TZID=America/Chicago:20241102T100000
DTSTAMP:20260423T082652
CREATED:20240926T204258Z
LAST-MODIFIED:20241102T145906Z
UID:10002143-1730538000-1730541600@www.ehcs.org
SUMMARY:6th-8th Grade Volleyball vs St. Paul
DESCRIPTION:
URL:https://www.ehcs.org/event/6th-8th-grade-volleyball-vs-st-paul-2/
LOCATION:St Paul Catholic Church\, 3131 Hyde Park Rd\, Pensacola\, FL\, United States
CATEGORIES:General
GEO:30.439833;-87.179231
X-APPLE-STRUCTURED-LOCATION;VALUE=URI;X-ADDRESS=St Paul Catholic Church 3131 Hyde Park Rd Pensacola FL United States;X-APPLE-RADIUS=500;X-TITLE=3131 Hyde Park Rd:geo:-87.179231,30.439833
END:VEVENT
BEGIN:VEVENT
DTSTART;TZID=America/Chicago:20241026T100000
DTEND;TZID=America/Chicago:20241026T110000
DTSTAMP:20260423T082652
CREATED:20240926T204258Z
LAST-MODIFIED:20241026T152822Z
UID:10002141-1729936800-1729940400@www.ehcs.org
SUMMARY:4th and 5th Grade Volleyball vs Aletheia
DESCRIPTION:
URL:https://www.ehcs.org/event/4th-and-5th-grade-volleyball-vs-aletheia/
LOCATION:St Paul Catholic Church\, 3131 Hyde Park Rd\, Pensacola\, FL\, United States
CATEGORIES:General
GEO:30.439833;-87.179231
X-APPLE-STRUCTURED-LOCATION;VALUE=URI;X-ADDRESS=St Paul Catholic Church 3131 Hyde Park Rd Pensacola FL United States;X-APPLE-RADIUS=500;X-TITLE=3131 Hyde Park Rd:geo:-87.179231,30.439833
END:VEVENT
BEGIN:VEVENT
DTSTART;TZID=America/Chicago:20241019T160000
DTEND;TZID=America/Chicago:20241019T170000
DTSTAMP:20260423T082652
CREATED:20240926T204257Z
LAST-MODIFIED:20241019T215753Z
UID:10002139-1729353600-1729357200@www.ehcs.org
SUMMARY:4th and 5th Grade Volleyball vs EDS
DESCRIPTION:
URL:https://www.ehcs.org/event/4th-and-5th-grade-volleyball-vs-eds/
LOCATION:St Paul Catholic Church\, 3131 Hyde Park Rd\, Pensacola\, FL\, United States
CATEGORIES:General
GEO:30.439833;-87.179231
X-APPLE-STRUCTURED-LOCATION;VALUE=URI;X-ADDRESS=St Paul Catholic Church 3131 Hyde Park Rd Pensacola FL United States;X-APPLE-RADIUS=500;X-TITLE=3131 Hyde Park Rd:geo:-87.179231,30.439833
END:VEVENT
BEGIN:VEVENT
DTSTART;TZID=America/Chicago:20241019T100000
DTEND;TZID=America/Chicago:20241019T110000
DTSTAMP:20260423T082652
CREATED:20240926T204257Z
LAST-MODIFIED:20241019T155753Z
UID:10002137-1729332000-1729335600@www.ehcs.org
SUMMARY:6th-8th Grade Volleyball vs EDS
DESCRIPTION:
URL:https://www.ehcs.org/event/6th-8th-grade-volleyball-vs-eds/
LOCATION:St Paul Catholic Church\, 3131 Hyde Park Rd\, Pensacola\, FL\, United States
CATEGORIES:General
GEO:30.439833;-87.179231
X-APPLE-STRUCTURED-LOCATION;VALUE=URI;X-ADDRESS=St Paul Catholic Church 3131 Hyde Park Rd Pensacola FL United States;X-APPLE-RADIUS=500;X-TITLE=3131 Hyde Park Rd:geo:-87.179231,30.439833
END:VEVENT
BEGIN:VEVENT
DTSTART;TZID=America/Chicago:20241005T120000
DTEND;TZID=America/Chicago:20241005T130000
DTSTAMP:20260423T082652
CREATED:20240926T204255Z
LAST-MODIFIED:20241005T172909Z
UID:10002136-1728129600-1728133200@www.ehcs.org
SUMMARY:4th and 5th Grade Volleyball vs St Paul
DESCRIPTION:
URL:https://www.ehcs.org/event/4th-and-5th-grade-volleyball-vs-st-paul/
LOCATION:St Paul Catholic Church\, 3131 Hyde Park Rd\, Pensacola\, FL\, United States
CATEGORIES:General
GEO:30.439833;-87.179231
X-APPLE-STRUCTURED-LOCATION;VALUE=URI;X-ADDRESS=St Paul Catholic Church 3131 Hyde Park Rd Pensacola FL United States;X-APPLE-RADIUS=500;X-TITLE=3131 Hyde Park Rd:geo:-87.179231,30.439833
END:VEVENT
BEGIN:VEVENT
DTSTART;TZID=America/Chicago:20241005T100000
DTEND;TZID=America/Chicago:20241005T110000
DTSTAMP:20260423T082652
CREATED:20240926T204255Z
LAST-MODIFIED:20241005T154403Z
UID:10002134-1728122400-1728126000@www.ehcs.org
SUMMARY:4th and 5th Grade Volleyball vs Montessori
DESCRIPTION:
URL:https://www.ehcs.org/event/4th-and-5th-grade-volleyball-vs-montessori/
LOCATION:St Paul Catholic Church\, 3131 Hyde Park Rd\, Pensacola\, FL\, United States
CATEGORIES:General
GEO:30.439833;-87.179231
X-APPLE-STRUCTURED-LOCATION;VALUE=URI;X-ADDRESS=St Paul Catholic Church 3131 Hyde Park Rd Pensacola FL United States;X-APPLE-RADIUS=500;X-TITLE=3131 Hyde Park Rd:geo:-87.179231,30.439833
END:VEVENT
BEGIN:VEVENT
DTSTART;TZID=America/Chicago:20240928T130000
DTEND;TZID=America/Chicago:20240928T140000
DTSTAMP:20260423T082652
CREATED:20240920T164400Z
LAST-MODIFIED:20240928T184249Z
UID:10002094-1727528400-1727532000@www.ehcs.org
SUMMARY:4th and 5th Grade Volleyball vs. Creative Learning Academy
DESCRIPTION:
URL:https://www.ehcs.org/event/4th-and-5th-grade-volleyball-vs-creative-learning-academy/
LOCATION:St Paul Catholic Church\, 3131 Hyde Park Rd\, Pensacola\, FL\, United States
CATEGORIES:General
GEO:30.439833;-87.179231
X-APPLE-STRUCTURED-LOCATION;VALUE=URI;X-ADDRESS=St Paul Catholic Church 3131 Hyde Park Rd Pensacola FL United States;X-APPLE-RADIUS=500;X-TITLE=3131 Hyde Park Rd:geo:-87.179231,30.439833
END:VEVENT
BEGIN:VEVENT
DTSTART;TZID=America/Chicago:20240921T100000
DTEND;TZID=America/Chicago:20240921T110000
DTSTAMP:20260423T082652
CREATED:20240920T164359Z
LAST-MODIFIED:20240921T151309Z
UID:10002091-1726912800-1726916400@www.ehcs.org
SUMMARY:4th and 5th Grade Volleyball vs. Episcopal Day School
DESCRIPTION:
URL:https://www.ehcs.org/event/4th-and-5th-grade-volleyball-vs-episcopal-day-school/
LOCATION:St Paul Catholic Church\, 3131 Hyde Park Rd\, Pensacola\, FL\, United States
CATEGORIES:General
GEO:30.439833;-87.179231
X-APPLE-STRUCTURED-LOCATION;VALUE=URI;X-ADDRESS=St Paul Catholic Church 3131 Hyde Park Rd Pensacola FL United States;X-APPLE-RADIUS=500;X-TITLE=3131 Hyde Park Rd:geo:-87.179231,30.439833
END:VEVENT
END:VCALENDAR